BEGIN:VCALENDAR
VERSION:2.0
PRODID:-//Highlands Opera Studio - ECPv6.15.20//NONSGML v1.0//EN
CALSCALE:GREGORIAN
METHOD:PUBLISH
X-ORIGINAL-URL:https://www.highlandsoperastudio.com
X-WR-CALDESC:Events for Highlands Opera Studio
REFRESH-INTERVAL;VALUE=DURATION:PT1H
X-Robots-Tag:noindex
X-PUBLISHED-TTL:PT1H
BEGIN:VTIMEZONE
TZID:America/Toronto
BEGIN:DAYLIGHT
TZOFFSETFROM:-0500
TZOFFSETTO:-0400
TZNAME:EDT
DTSTART:20220313T070000
END:DAYLIGHT
BEGIN:STANDARD
TZOFFSETFROM:-0400
TZOFFSETTO:-0500
TZNAME:EST
DTSTART:20221106T060000
END:STANDARD
BEGIN:DAYLIGHT
TZOFFSETFROM:-0500
TZOFFSETTO:-0400
TZNAME:EDT
DTSTART:20230312T070000
END:DAYLIGHT
BEGIN:STANDARD
TZOFFSETFROM:-0400
TZOFFSETTO:-0500
TZNAME:EST
DTSTART:20231105T060000
END:STANDARD
BEGIN:DAYLIGHT
TZOFFSETFROM:-0500
TZOFFSETTO:-0400
TZNAME:EDT
DTSTART:20240310T070000
END:DAYLIGHT
BEGIN:STANDARD
TZOFFSETFROM:-0400
TZOFFSETTO:-0500
TZNAME:EST
DTSTART:20241103T060000
END:STANDARD
END:VTIMEZONE
BEGIN:VEVENT
DTSTART;VALUE=DATE:20230819
DTEND;VALUE=DATE:20230820
DTSTAMP:20260419T113754
CREATED:20221204T220515Z
LAST-MODIFIED:20230704T192549Z
UID:1660-1692403200-1692489599@www.highlandsoperastudio.com
SUMMARY:POSTPONED  - Mishaabooz's Realm
DESCRIPTION:The 2023 HOS presentation of Mishaabooz’s Realm has been postponed for this season\, as its creator\, Andrew Balfour\, has had to step away from all professional commitments for the foreseeable future. \nIn lieu of Mishaabooz’s Realm we will be presenting Regeneration: an innovative evening of theatrical storytelling combining vocal\, percussion and electro-acoustic music entwined with dance and painting to present a new understanding of an ancient story. \nRegeneration is inspired by the northern Mexican legend of the bone-gathering woman\, ‘La Loba‘ (Wolf Woman). In this multi-textured work\, designed and directed by Valerie Kuinka\, artists gather bones to assemble a skeleton. The spirit of ‘La Loba‘ begins her magic; singing\, dancing\, painting and playing instruments until the bones refresh themselves and a new woman arises. \nOperas: $37.50\nTicket Link: https://www.brownpapertickets.com/event/5658996 \n\nSEASON PASSES: \nVIP Pass – $200 \nIncludes all live season performances & activities \nhttps://www.brownpapertickets.com/event/5659072 \n  \nRegular Pass – $90 \nIncludes 1 ticket to each opera program (ie. 1 ticket for a performance of ‘Mishaabooz’s Realm’ & 1 ticket to a performance of ‘L’Elisir d’Amore’) +  1 concert of your choice + unlimited attendance at Masterclasses \nhttps://www.brownpapertickets.com/event/5659053 \n  \nYouth Pass – $25 (for ages 13-30; proof of age required at time of purchase) \nIncludes 1 ticket to an opera performance of your choice + 1 ticket to a concert of your choice + unlimited attendance at Masterclasses \nhttps://www.brownpapertickets.com/event/5659075
URL:https://www.highlandsoperastudio.com/event/mishaaboozs-realm-aug-19/
LOCATION:Ontario
CATEGORIES:2023 Season,Mishaabooz’s Realm,Opera
END:VEVENT
BEGIN:VEVENT
DTSTART;TZID=America/Toronto:20230819T193000
DTEND;TZID=America/Toronto:20230819T213000
DTSTAMP:20260419T113754
CREATED:20230704T191221Z
LAST-MODIFIED:20230704T191221Z
UID:1849-1692473400-1692480600@www.highlandsoperastudio.com
SUMMARY:Regeneration - Aug 19
DESCRIPTION:In lieu of Mishaabooz’s Realm we will be presenting Regeneration: an innovative evening of theatrical storytelling combining vocal\, percussion and electro-acoustic music entwined with dance and painting to present a new understanding of an ancient story. \nRegeneration is inspired by the northern Mexican legend of the bone-gathering woman\, ‘La Loba‘ (Wolf Woman). In this multi-textured work\, designed and directed by Valerie Kuinka\, artists gather bones to assemble a skeleton. The spirit of ‘La Loba‘ begins her magic; singing\, dancing\, painting and playing instruments until the bones refresh themselves and a new woman arises. \nOperas: $37.50\nTicket Link: https://www.brownpapertickets.com/event/5658996 \n\nSEASON PASSES: \nVIP Pass – $200 \nIncludes all live season performances & activities \nhttps://www.brownpapertickets.com/event/5659072 \n  \nRegular Pass – $90 \nIncludes 1 ticket to each opera program (ie. 1 ticket for a performance of ‘Mishaabooz’s Realm’ & 1 ticket to a performance of ‘L’Elisir d’Amore’) +  1 concert of your choice + unlimited attendance at Masterclasses \nhttps://www.brownpapertickets.com/event/5659053 \n  \nYouth Pass – $25 (for ages 13-30; proof of age required at time of purchase) \nIncludes 1 ticket to an opera performance of your choice + 1 ticket to a concert of your choice + unlimited attendance at Masterclasses \nhttps://www.brownpapertickets.com/event/5659075
URL:https://www.highlandsoperastudio.com/event/regeneration-aug-19/
LOCATION:Northern Lights Performing Arts Pavilion\, 5358 Haliburton County Rd. 21\, Haliburton\, Ontario\, K0M 1S0\, Canada
CATEGORIES:2023 Season,Opera,Regeneration
ATTACH;FMTTYPE=image/jpeg:https://www.highlandsoperastudio.com/wp-content/uploads/2023/07/Regenerations.jpeg
END:VEVENT
END:VCALENDAR