BEGIN:VCALENDAR
VERSION:2.0
PRODID:-//Highlands Opera Studio - ECPv6.15.20//NONSGML v1.0//EN
CALSCALE:GREGORIAN
METHOD:PUBLISH
X-ORIGINAL-URL:https://www.highlandsoperastudio.com
X-WR-CALDESC:Events for Highlands Opera Studio
REFRESH-INTERVAL;VALUE=DURATION:PT1H
X-Robots-Tag:noindex
X-PUBLISHED-TTL:PT1H
BEGIN:VTIMEZONE
TZID:America/Toronto
BEGIN:DAYLIGHT
TZOFFSETFROM:-0500
TZOFFSETTO:-0400
TZNAME:EDT
DTSTART:20220313T070000
END:DAYLIGHT
BEGIN:STANDARD
TZOFFSETFROM:-0400
TZOFFSETTO:-0500
TZNAME:EST
DTSTART:20221106T060000
END:STANDARD
BEGIN:DAYLIGHT
TZOFFSETFROM:-0500
TZOFFSETTO:-0400
TZNAME:EDT
DTSTART:20230312T070000
END:DAYLIGHT
BEGIN:STANDARD
TZOFFSETFROM:-0400
TZOFFSETTO:-0500
TZNAME:EST
DTSTART:20231105T060000
END:STANDARD
BEGIN:DAYLIGHT
TZOFFSETFROM:-0500
TZOFFSETTO:-0400
TZNAME:EDT
DTSTART:20240310T070000
END:DAYLIGHT
BEGIN:STANDARD
TZOFFSETFROM:-0400
TZOFFSETTO:-0500
TZNAME:EST
DTSTART:20241103T060000
END:STANDARD
END:VTIMEZONE
BEGIN:VEVENT
DTSTART;TZID=America/Toronto:20230827T140000
DTEND;TZID=America/Toronto:20230827T164500
DTSTAMP:20260419T113754
CREATED:20221204T224215Z
LAST-MODIFIED:20230509T151539Z
UID:1669-1693144800-1693154700@www.highlandsoperastudio.com
SUMMARY:L'Elisir d'Amore (The Elixir of Love) by Gaetano Donizetti - Aug 27
DESCRIPTION:One of the best loved – and most-regularly performed – of all Donizetti’s operas\, this two-act romantic comedy follows the fortunes of poor villager Nemorino who is in love with wealthy\, beautiful heiress Adina. A hilarious sit-com for all ages\, love wins in the end. \nOperas: $37.50\nTicket Link: https://www.brownpapertickets.com/event/5659008 \n\nSEASON PASSES: \nVIP Pass – $200 \nIncludes all live season performances & activities \nhttps://www.brownpapertickets.com/event/5659072 \n  \nRegular Pass – $90 \nIncludes 1 ticket to each opera program (ie. 1 ticket for a performance of ‘Mishaabooz’s Realm’ & 1 ticket to a performance of ‘L’Elisir d’Amore’) +  1 concert of your choice + unlimited attendance at Masterclasses \nhttps://www.brownpapertickets.com/event/5659053 \n  \nYouth Pass – $25 (for ages 13-30; proof of age required at time of purchase) \nIncludes 1 ticket to an opera performance of your choice + 1 ticket to a concert of your choice + unlimited attendance at Masterclasses \nhttps://www.brownpapertickets.com/event/5659075
URL:https://www.highlandsoperastudio.com/event/lelisir-damore-the-elixir-of-love-by-gaetano-donizetti-aug-27/
LOCATION:Northern Lights Performing Arts Pavilion\, 5358 Haliburton County Rd. 21\, Haliburton\, Ontario\, K0M 1S0\, Canada
CATEGORIES:2023 Season,L’Elisir d’Amore,Opera
ATTACH;FMTTYPE=image/jpeg:https://www.highlandsoperastudio.com/wp-content/uploads/2022/12/hos-2023-elisir-v2.jpg
END:VEVENT
END:VCALENDAR